BEGIN:VCALENDAR
VERSION:2.0
PRODID:-//BlueBin - ECPv6.15.20//NONSGML v1.0//EN
CALSCALE:GREGORIAN
METHOD:PUBLISH
X-WR-CALNAME:BlueBin
X-ORIGINAL-URL:https://bluebin.com
X-WR-CALDESC:Events for BlueBin
REFRESH-INTERVAL;VALUE=DURATION:PT1H
X-Robots-Tag:noindex
X-PUBLISHED-TTL:PT1H
BEGIN:VTIMEZONE
TZID:America/New_York
BEGIN:DAYLIGHT
TZOFFSETFROM:-0500
TZOFFSETTO:-0400
TZNAME:EDT
DTSTART:20250309T070000
END:DAYLIGHT
BEGIN:STANDARD
TZOFFSETFROM:-0400
TZOFFSETTO:-0500
TZNAME:EST
DTSTART:20251102T060000
END:STANDARD
BEGIN:DAYLIGHT
TZOFFSETFROM:-0500
TZOFFSETTO:-0400
TZNAME:EDT
DTSTART:20260308T070000
END:DAYLIGHT
BEGIN:STANDARD
TZOFFSETFROM:-0400
TZOFFSETTO:-0500
TZNAME:EST
DTSTART:20261101T060000
END:STANDARD
BEGIN:DAYLIGHT
TZOFFSETFROM:-0500
TZOFFSETTO:-0400
TZNAME:EDT
DTSTART:20270314T070000
END:DAYLIGHT
BEGIN:STANDARD
TZOFFSETFROM:-0400
TZOFFSETTO:-0500
TZNAME:EST
DTSTART:20271107T060000
END:STANDARD
END:VTIMEZONE
BEGIN:VEVENT
DTSTART;VALUE=DATE:20260611
DTEND;VALUE=DATE:20260613
DTSTAMP:20260419T055518
CREATED:20260323T233522Z
LAST-MODIFIED:20260401T201654Z
UID:226094-1781136000-1781308799@bluebin.com
SUMMARY:BlueBin at the Healthcare Supply Chain Technology Summit 2026
DESCRIPTION:This summer\, representatives from BlueBin will be attending the Healthcare Supply Chain Technology Summit. We look forward to be giving a Lightning Round Tech Talk\, connecting with healthcare supply chain leaders and exhibiting new developments. \nWe have many exciting developments to discuss: \n\nNew Partnerships\nNew Products & Services\nSpeed to Quality Transformation\nExpansion of BlueQ Analytics features\n\n			\n			\n				\n				\n				\n				\n			\n				\n				\n				\n				\n				\n				\n				\n				\n				\n				\n				\n					\n					\n						BlueQ Labeler\n						\n					\n				\n			\n			\n				\n				\n				\n				\n				\n				\n				\n				\n				\n				\n					\n					\n						BlueQ TLR\n						\n					\n				\n			\n			\n				\n				\n				\n				\n				\n				\n				\n				\n				\n				\n					\n					\n						BlueQ Ocean\n						\n					\n				\n			\n			\n				\n				\n				\n				\n				\n				\n				\n				\n				\n				\n					\n					\n						BlueQ BlueBot\n						\n					\n				\n			\n			\n				\n				\n				\n				\n			\n				\n				\n				\n				\n				\n				\n				\n				\n				\n				\n				Learn about BlueBin’s proven Speed to Quality Transformation. We show you how BlueBin’s turnkey solutions eliminate the “Year-3 stall” typical of in-house lean programs. Our embedded coaching\, proven methodologies\, and complete transformation team deliver measurable results in months\, not years!
URL:https://bluebin.com/event/bluebin-at-the-healthcare-supply-chain-technology-summit-2026/
LOCATION:Northeastern University Facilities\, St Botolph St\, Boston\, MA\, USA\, Northeastern University Facilities\, St Botolph St\, Boston\, MA\, United States
CATEGORIES:Conference
ATTACH;FMTTYPE=image/png:https://bluebin.com/wp-content/uploads/2026/03/healthcare-supply-chain-tech-summit.png
END:VEVENT
END:VCALENDAR